BEGIN:VCALENDAR
VERSION:2.0
PRODID:-//Kikitaru - ECPv6.15.20//NONSGML v1.0//EN
CALSCALE:GREGORIAN
METHOD:PUBLISH
X-ORIGINAL-URL:https://kikitaru.com
X-WR-CALDESC:Events for Kikitaru
REFRESH-INTERVAL;VALUE=DURATION:PT1H
X-Robots-Tag:noindex
X-PUBLISHED-TTL:PT1H
BEGIN:VTIMEZONE
TZID:Europe/Paris
BEGIN:DAYLIGHT
TZOFFSETFROM:+0100
TZOFFSETTO:+0200
TZNAME:CEST
DTSTART:20230326T010000
END:DAYLIGHT
BEGIN:STANDARD
TZOFFSETFROM:+0200
TZOFFSETTO:+0100
TZNAME:CET
DTSTART:20231029T010000
END:STANDARD
BEGIN:DAYLIGHT
TZOFFSETFROM:+0100
TZOFFSETTO:+0200
TZNAME:CEST
DTSTART:20240331T010000
END:DAYLIGHT
BEGIN:STANDARD
TZOFFSETFROM:+0200
TZOFFSETTO:+0100
TZNAME:CET
DTSTART:20241027T010000
END:STANDARD
BEGIN:DAYLIGHT
TZOFFSETFROM:+0100
TZOFFSETTO:+0200
TZNAME:CEST
DTSTART:20250330T010000
END:DAYLIGHT
BEGIN:STANDARD
TZOFFSETFROM:+0200
TZOFFSETTO:+0100
TZNAME:CET
DTSTART:20251026T010000
END:STANDARD
END:VTIMEZONE
BEGIN:VEVENT
DTSTART;TZID=Europe/Paris:20240423T180000
DTEND;TZID=Europe/Paris:20240423T200000
DTSTAMP:20260421T203416
CREATED:20240403T121333Z
LAST-MODIFIED:20240403T121533Z
UID:19202-1713895200-1713902400@kikitaru.com
SUMMARY:Atelier tsumamizaiku - avril
DESCRIPTION:Atelier tsumamizaiku つまみ細工 \nRéaliser une broche par tsumamizaiku\, une méthode traditionnelle japonaise\, qui plie des carrés de tissu formant des fleurs. \n   \nAttention !!! \nLes couleurs de fleur dépendent les disponibilités de tissus (toujours en tissu japonais). \n \nTsumamizaiku est une technique artisanale japonaise qui transforme les chutes de tissus en fleur. Cette forme d’art existe depuis le milieu de la période Edo (江戸時代中期)\, vers la fin de XVIIIe siècle. Elle a été développé par les dames du palais et ces pliages sont devenus des accessoires à la mode.
URL:https://kikitaru.com/evenements/tsumamizaiku202404/
LOCATION:Salle 12\, Césure\, Paris 75005\, Salle 12 RDC\, 13 rue Santeuil\, Paris\, 75005\, France
CATEGORIES:Tsumamizaiku
ATTACH;FMTTYPE=image/jpeg:https://kikitaru.com/wp-content/uploads/2023/08/Atelier-tsumamizaifu.jpg
ORGANIZER;CN="Sayaka YOSHIDA":MAILTO:sayaka@kikitaru.com
END:VEVENT
END:VCALENDAR